BEGIN:VCALENDAR
VERSION:2.0
PRODID:-//wp-events-plugin.com//6.6.3//EN
TZID:Europe/Helsinki
X-WR-TIMEZONE:Europe/Helsinki
BEGIN:VEVENT
UID:153@pokokorpilahti.fi
DTSTART;TZID=Europe/Helsinki:20250506T180000
DTEND;TZID=Europe/Helsinki:20250506T200000
DTSTAMP:20250424T100219Z
URL:https://www.pokokorpilahti.fi/events/ympariston-siivoustalkoot-ti-6-5-
 klo-18/
SUMMARY:ympäristön siivoustalkoot ti 6.5 klo 18
DESCRIPTION:Keräämme taasen roskat pois teiden varsilta Tikkalan ympäris
 tössä. Lähtö kaupalta klo 18\, ota omat hansikkaat mukaan!\n\nTalkoide
 n jälkeen tarjoilua kaupan terassilla.\n\nJärj: Tikkalan kyläseura
CATEGORIES:kylät,lapset,maaseutu
LOCATION:Mehtosen kauppa\, Saukkolahdentie 3\, Tikkala\, 41860\, Suomi
X-APPLE-STRUCTURED-LOCATION;VALUE=URI;X-ADDRESS=Saukkolahdentie 3\, Tikkala
 \, 41860\, Suomi;X-APPLE-RADIUS=100;X-TITLE=Mehtosen kauppa:geo:0,0
END:VEVENT
BEGIN:VTIMEZONE
TZID:Europe/Helsinki
X-LIC-LOCATION:Europe/Helsinki
BEGIN:DAYLIGHT
DTSTART:20250330T040000
TZOFFSETFROM:+0200
TZOFFSETTO:+0300
TZNAME:EEST
END:DAYLIGHT
END:VTIMEZONE
END:VCALENDAR