BEGIN:VCALENDAR
VERSION:2.0
PRODID:-//wp-events-plugin.com//6.6.3//EN
TZID:Europe/Helsinki
X-WR-TIMEZONE:Europe/Helsinki
BEGIN:VEVENT
UID:132@pokokorpilahti.fi
DTSTART;TZID=Europe/Helsinki:20230605T140000
DTEND;TZID=Europe/Helsinki:20230605T160000
DTSTAMP:20230524T075905Z
URL:https://www.pokokorpilahti.fi/events/vahva-ja-hella-esitys-tikkalan-ha
 rjulassa/
SUMMARY:Vahva ja hellä -esitys Tikkalan Harjulassa
DESCRIPTION:Ma 5.6. klo 14 VAHVA JA HELLÄ –esitys senioreille ja lapsipe
 rheille.\nSeurantalo Harjula\, Petäjävedentie 1641\, 41860 Tikkala. Kahv
 itarjoilu
ATTACH;FMTTYPE=image/jpeg:https://www.pokokorpilahti.fi/wp-content/uploads
 /2023/05/Osiris-teatteri.jpg
CATEGORIES:maaseutu,musiikki,vapaa-aika
LOCATION:Harjulan seurantalo\, Petäjävedentie 1641\, Tikkala\, 41860\, Ko
 rpilahden pohjoiset kylät\, Suomi
GEO:62.144674;25.467663
X-APPLE-STRUCTURED-LOCATION;VALUE=URI;X-ADDRESS=Petäjävedentie 1641\, Tik
 kala\, 41860\, Korpilahden pohjoiset kylät\, Suomi;X-APPLE-RADIUS=100;X-T
 ITLE=Harjulan seurantalo:geo:62.144674,25.467663
END:VEVENT
BEGIN:VTIMEZONE
TZID:Europe/Helsinki
X-LIC-LOCATION:Europe/Helsinki
BEGIN:DAYLIGHT
DTSTART:20230326T040000
TZOFFSETFROM:+0200
TZOFFSETTO:+0300
TZNAME:EEST
END:DAYLIGHT
END:VTIMEZONE
END:VCALENDAR