BEGIN:VCALENDAR
VERSION:2.0
PRODID:-//wp-events-plugin.com//6.6.3//EN
TZID:Europe/Helsinki
X-WR-TIMEZONE:Europe/Helsinki
BEGIN:VEVENT
UID:138@pokokorpilahti.fi
DTSTART;TZID=Europe/Helsinki:20231231T180000
DTEND;TZID=Europe/Helsinki:20231231T200000
DTSTAMP:20231227T143213Z
URL:https://www.pokokorpilahti.fi/events/uuden-vuoden-vastaanotto-harjulas
 sa-30-12-23-klo-18-00/
SUMMARY:Uuden vuoden vastaanotto Harjulassa 30.12.23 klo 18.00
DESCRIPTION:Tervetuloa vastaanottamaan uutta vuotta Harjulaan alkaen klo 18
 .00.\n\nKyläseura tarjoaa glögin ja piparin\, kuumaa makkaraa saa 2 e/kp
 l.\n\nRaketit ammutaan klo 19\, voi tuoda myös omia! Ja vielä ehtii tuke
 maan yhteistä rakettinäytöstä laittamalla kolikon jos toisenkin Mehtos
 en kaupalla olevaan keräykseen.\n\nTervetuloa!
ATTACH;FMTTYPE=image/jpeg:https://www.pokokorpilahti.fi/wp-content/uploads
 /2023/12/uudenvuodenvastaanotto.png
CATEGORIES:kylät,maaseutu,vapaa-aika
LOCATION:Harjulan seurantalo\, Petäjävedentie 1641\, Tikkala\, 41860\, Ko
 rpilahden pohjoiset kylät\, Suomi
GEO:62.144674;25.467663
X-APPLE-STRUCTURED-LOCATION;VALUE=URI;X-ADDRESS=Petäjävedentie 1641\, Tik
 kala\, 41860\, Korpilahden pohjoiset kylät\, Suomi;X-APPLE-RADIUS=100;X-T
 ITLE=Harjulan seurantalo:geo:62.144674,25.467663
END:VEVENT
BEGIN:VTIMEZONE
TZID:Europe/Helsinki
X-LIC-LOCATION:Europe/Helsinki
BEGIN:STANDARD
DTSTART:20231029T030000
TZOFFSETFROM:+0300
TZOFFSETTO:+0200
TZNAME:EET
END:STANDARD
END:VTIMEZONE
END:VCALENDAR