BEGIN:VCALENDAR
VERSION:2.0
PRODID:-//wp-events-plugin.com//6.6.3//EN
TZID:Europe/Helsinki
X-WR-TIMEZONE:Europe/Helsinki
BEGIN:VEVENT
UID:144@pokokorpilahti.fi
DTSTART;TZID=Europe/Helsinki:20241006T170000
DTEND;TZID=Europe/Helsinki:20241006T183000
DTSTAMP:20240912T130548Z
URL:https://www.pokokorpilahti.fi/events/tikkalan-kylaseuran-syyskokous-su
 -6-10-2024-klo-17/
SUMMARY:Tikkalan kyläseuran syyskokous su 6.10.2024 klo 17
DESCRIPTION:Tervetuloa syyskokoukseen!\n\nKutsumme mukaa tietysti uudet kyl
 äläiset - tule tutustumaan!\n\nSeurantalo Harjula.
ATTACH;FMTTYPE=image/jpeg:https://www.pokokorpilahti.fi/wp-content/uploads
 /2024/09/syyskokous24.png
CATEGORIES:kylät,maaseutu
END:VEVENT
BEGIN:VTIMEZONE
TZID:Europe/Helsinki
X-LIC-LOCATION:Europe/Helsinki
BEGIN:DAYLIGHT
DTSTART:20240331T040000
TZOFFSETFROM:+0200
TZOFFSETTO:+0300
TZNAME:EEST
END:DAYLIGHT
END:VTIMEZONE
END:VCALENDAR