BEGIN:VCALENDAR
VERSION:2.0
PRODID:-//wp-events-plugin.com//6.6.3//EN
TZID:Europe/Helsinki
X-WR-TIMEZONE:Europe/Helsinki
BEGIN:VEVENT
UID:135@pokokorpilahti.fi
DTSTART;TZID=Europe/Helsinki:20230923T190000
DTEND;TZID=Europe/Helsinki:20230923T234500
DTSTAMP:20230901T135130Z
URL:https://www.pokokorpilahti.fi/events/tanssit-harjulassa/
SUMMARY:Tanssit Harjulassa!
DESCRIPTION:
ATTACH;FMTTYPE=image/jpeg:https://www.pokokorpilahti.fi/wp-content/uploads
 /2023/09/Kinsmen23923.jpg
CATEGORIES:kylät,maaseutu,musiikki,vapaa-aika
LOCATION:Harjulan kylätalo\, Petäjävedentie 1641\, Jyväskylä\, Keski-S
 uomi\, 41860\, Suomi
GEO:62.144674;25.467663
X-APPLE-STRUCTURED-LOCATION;VALUE=URI;X-ADDRESS=Petäjävedentie 1641\, Jyv
 äskylä\, Keski-Suomi\, 41860\, Suomi;X-APPLE-RADIUS=100;X-TITLE=Harjulan
  kylätalo:geo:62.144674,25.467663
END:VEVENT
BEGIN:VTIMEZONE
TZID:Europe/Helsinki
X-LIC-LOCATION:Europe/Helsinki
BEGIN:DAYLIGHT
DTSTART:20230326T040000
TZOFFSETFROM:+0200
TZOFFSETTO:+0300
TZNAME:EEST
END:DAYLIGHT
END:VTIMEZONE
END:VCALENDAR