BEGIN:VCALENDAR
VERSION:2.0
PRODID:-//wp-events-plugin.com//6.6.3//EN
TZID:Europe/Helsinki
X-WR-TIMEZONE:Europe/Helsinki
BEGIN:VEVENT
UID:133@pokokorpilahti.fi
DTSTART;TZID=Europe/Helsinki:20230607T180000
DTEND;TZID=Europe/Helsinki:20230607T184500
DTSTAMP:20230524T080759Z
URL:https://www.pokokorpilahti.fi/events/satumainen-lastenkonsertti-ke-7-6
 -klo-1800/
SUMMARY:Satumainen lastenkonsertti ke 7.6 klo 18:00
DESCRIPTION:Laukkalan vanhassa tuvassa meille ja meidän kanssa laulavat\, 
 loruilevat ja leikkivät Tahtipeikko  &amp\; Keiju\, jotka pitävät tait
 eilijaresidenssiä Laukkalan kesässä.\n\nTarjotaan myös mehua ja keksej
 ä.\n\nTuokio kestää 45 minuuttia.
ATTACH;FMTTYPE=image/jpeg:https://www.pokokorpilahti.fi/wp-content/uploads
 /2023/05/Tahtipeikko-ja-Keiju-A4-juliste-scaled.jpg
CATEGORIES:maaseutu,musiikki,vapaa-aika
LOCATION:Laukkala\, Petäjävedentie 1798\, Tikkala\, Keski-Suomi\, 41860\,
  Korpilahden pohjoiset kylät\, Suomi
GEO:62.15447;25.460215
X-APPLE-STRUCTURED-LOCATION;VALUE=URI;X-ADDRESS=Petäjävedentie 1798\, Tik
 kala\, Keski-Suomi\, 41860\, Korpilahden pohjoiset kylät\, Suomi;X-APPLE-
 RADIUS=100;X-TITLE=Laukkala:geo:62.15447,25.460215
END:VEVENT
BEGIN:VTIMEZONE
TZID:Europe/Helsinki
X-LIC-LOCATION:Europe/Helsinki
BEGIN:DAYLIGHT
DTSTART:20230326T040000
TZOFFSETFROM:+0200
TZOFFSETTO:+0300
TZNAME:EEST
END:DAYLIGHT
END:VTIMEZONE
END:VCALENDAR