BEGIN:VCALENDAR
VERSION:2.0
PRODID:-//wp-events-plugin.com//6.6.3//EN
TZID:Europe/Helsinki
X-WR-TIMEZONE:Europe/Helsinki
BEGIN:VEVENT
UID:137@pokokorpilahti.fi
DTSTART;TZID=Europe/Helsinki:20231125T160000
DTEND;TZID=Europe/Helsinki:20231125T160000
DTSTAMP:20231117T081354Z
URL:https://www.pokokorpilahti.fi/events/pikkujoulusauna-la-25-11hangsjarv
 ella/
SUMMARY:Pikkujoulusauna la 25.11Hangsjärvellä
DESCRIPTION:Tervetuloa tunnelmalliseen joulusaunaan la 25.11 Hangasjärven 
 eräkämpän rantasaunalle.\n\nMiesten vuoro klo 16-18\, naiset 18-20.\n\n
 Saunamaksu 5€\, lapset 2\,5€ (alle 12 v)\n\nTuvassa myynnissä glögi
 ä ja jouluisia herkkuja.\n\nOsoite: Hangasjärventie 3\, 41860 Tikkala\n\
 n&nbsp\;
ATTACH;FMTTYPE=image/jpeg:https://www.pokokorpilahti.fi/wp-content/uploads
 /2023/11/pikkujoulusauna.png
CATEGORIES:kylät,maaseutu,sauna,vapaa-aika
END:VEVENT
BEGIN:VTIMEZONE
TZID:Europe/Helsinki
X-LIC-LOCATION:Europe/Helsinki
BEGIN:STANDARD
DTSTART:20231029T030000
TZOFFSETFROM:+0300
TZOFFSETTO:+0200
TZNAME:EET
END:STANDARD
END:VTIMEZONE
END:VCALENDAR