BEGIN:VCALENDAR
VERSION:2.0
PRODID:-//wp-events-plugin.com//6.6.3//EN
TZID:Europe/Helsinki
X-WR-TIMEZONE:Europe/Helsinki
BEGIN:VEVENT
UID:145@pokokorpilahti.fi
DTSTART;TZID=Europe/Helsinki:20241102T160000
DTEND;TZID=Europe/Helsinki:20241102T203000
DTSTAMP:20241030T071122Z
URL:https://www.pokokorpilahti.fi/events/pienten-halloween-disco-harjulass
 a-2-11-2024/
SUMMARY:Pienten Halloween disco Harjulassa 2.11.2024
DESCRIPTION:päiväkotilaisten disco 16.00 - 18.00\, ala-koululaisten disco
  18.00 - 20.30. \n\nTapahtumassa kioski\, ongintaa\, hattaraa (säävaraus
 ). Paras puku palkitaan!\n\njärjestäjänä Tikkalan koulun 6. luokkalais
 et\, Tikkalan päiväkotikoulun vanhempain toimikunta ja Tikkalan kyläseu
 ra.
ATTACH;FMTTYPE=image/jpeg:https://www.pokokorpilahti.fi/wp-content/uploads
 /2024/10/Halloween-disco.jpg
CATEGORIES:kylät,lapset,maaseutu,musiikki,vapaa-aika
LOCATION:Seurantalo Harjula\, Petäjävedentie 1641\,\, Tikkala\, 41860\, S
 uomi
X-APPLE-STRUCTURED-LOCATION;VALUE=URI;X-ADDRESS=Petäjävedentie 1641\,\, T
 ikkala\, 41860\, Suomi;X-APPLE-RADIUS=100;X-TITLE=Seurantalo Harjula:geo:0
 ,0
END:VEVENT
BEGIN:VTIMEZONE
TZID:Europe/Helsinki
X-LIC-LOCATION:Europe/Helsinki
BEGIN:STANDARD
DTSTART:20241027T030000
TZOFFSETFROM:+0300
TZOFFSETTO:+0200
TZNAME:EET
END:STANDARD
END:VTIMEZONE
END:VCALENDAR