BEGIN:VCALENDAR
VERSION:2.0
PRODID:-//wp-events-plugin.com//6.6.3//EN
TZID:Europe/Helsinki
X-WR-TIMEZONE:Europe/Helsinki
BEGIN:VEVENT
UID:141@pokokorpilahti.fi
DTSTART;TZID=Europe/Helsinki:20240828T000000
DTEND;TZID=Europe/Helsinki:20240828T214500
DTSTAMP:20240821T113703Z
URL:https://www.pokokorpilahti.fi/events/peruttu-hangasjarven-rantasauna-v
 uoro-ke-28-8-peruttu/
SUMMARY:PERUTTU: Hangasjärven rantasauna vuoro ke 28.8 peruttu!
DESCRIPTION:Hangasjärven saunalla on keskiviikkona 28.8 yksityistilaisuus\
 , jonka johdosta kesän viimeinen saunavuoro siirtyy keskiviikolle 4.9.202
 4. Normaali ajat\; naiset klo 18 - 19.45 ja miehet 20 - 21.45.
ATTACH;FMTTYPE=image/jpeg:https://www.pokokorpilahti.fi/wp-content/uploads
 /2021/08/DSC_0601-1-scaled.jpg
CATEGORIES:kylät,maaseutu,sauna,vapaa-aika
END:VEVENT
BEGIN:VTIMEZONE
TZID:Europe/Helsinki
X-LIC-LOCATION:Europe/Helsinki
BEGIN:DAYLIGHT
DTSTART:20240331T040000
TZOFFSETFROM:+0200
TZOFFSETTO:+0300
TZNAME:EEST
END:DAYLIGHT
END:VTIMEZONE
END:VCALENDAR