BEGIN:VCALENDAR
VERSION:2.0
PRODID:-//wp-events-plugin.com//6.6.3//EN
TZID:Europe/Helsinki
X-WR-TIMEZONE:Europe/Helsinki
BEGIN:VEVENT
UID:157@pokokorpilahti.fi
DTSTART;TZID=Europe/Helsinki:20250505T180000
DTEND;TZID=Europe/Helsinki:20250505T190000
DTSTAMP:20250424T100219Z
URL:https://www.pokokorpilahti.fi/events/moksin-kevatjumppa-2/
SUMMARY:Moksin kevätjumppa
DESCRIPTION:
ATTACH;FMTTYPE=image/jpeg:https://www.pokokorpilahti.fi/wp-content/uploads
 /2025/04/moksin-kevatjumpat.webp
CATEGORIES:kylät,liikunta
LOCATION:Moksin seurojentalo\, Moksintie 602\, Jyväskylä\, Keski-Suomi\, 
 41840\, Moksi\, Suomi
X-APPLE-STRUCTURED-LOCATION;VALUE=URI;X-ADDRESS=Moksintie 602\, Jyväskylä
 \, Keski-Suomi\, 41840\, Moksi\, Suomi;X-APPLE-RADIUS=100;X-TITLE=Moksin s
 eurojentalo:geo:0,0
END:VEVENT
BEGIN:VTIMEZONE
TZID:Europe/Helsinki
X-LIC-LOCATION:Europe/Helsinki
BEGIN:DAYLIGHT
DTSTART:20250330T040000
TZOFFSETFROM:+0200
TZOFFSETTO:+0300
TZNAME:EEST
END:DAYLIGHT
END:VTIMEZONE
END:VCALENDAR