BEGIN:VCALENDAR
VERSION:2.0
PRODID:-//wp-events-plugin.com//6.6.3//EN
TZID:Europe/Helsinki
X-WR-TIMEZONE:Europe/Helsinki
BEGIN:VEVENT
UID:147@pokokorpilahti.fi
DTSTART;TZID=Europe/Helsinki:20241207T110000
DTEND;TZID=Europe/Helsinki:20241207T140000
DTSTAMP:20241119T124406Z
URL:https://www.pokokorpilahti.fi/events/moksin-joulumarkkinat/
SUMMARY:Moksin joulumarkkinat
DESCRIPTION:Tervetuloa Moksin joulumarkkinoille!\n\nMyynnissä käsityötuo
 tteita\, leivonnaisia\, sisustustavaraa. Jouluohjelmaa lapsille\, joulupuk
 in vierailu sekä kinkkuarpajaiset. \n\nKahviossa mm. riisipuuroa.
ATTACH;FMTTYPE=image/jpeg:https://www.pokokorpilahti.fi/wp-content/uploads
 /2024/11/Moksin-joulumarkkinat.webp
CATEGORIES:kylät,lapset,maaseutu,myyjäiset,vapaa-aika
LOCATION:Moksin seurojentalo\, Moksintie 602\, Jyväskylä\, Keski-Suomi\, 
 41840\, Moksi\, Suomi
X-APPLE-STRUCTURED-LOCATION;VALUE=URI;X-ADDRESS=Moksintie 602\, Jyväskylä
 \, Keski-Suomi\, 41840\, Moksi\, Suomi;X-APPLE-RADIUS=100;X-TITLE=Moksin s
 eurojentalo:geo:0,0
END:VEVENT
BEGIN:VTIMEZONE
TZID:Europe/Helsinki
X-LIC-LOCATION:Europe/Helsinki
BEGIN:STANDARD
DTSTART:20241027T030000
TZOFFSETFROM:+0300
TZOFFSETTO:+0200
TZNAME:EET
END:STANDARD
END:VTIMEZONE
END:VCALENDAR