BEGIN:VCALENDAR
VERSION:2.0
PRODID:-//wp-events-plugin.com//6.6.3//EN
TZID:Europe/Helsinki
X-WR-TIMEZONE:Europe/Helsinki
BEGIN:VEVENT
UID:140@pokokorpilahti.fi
DTSTART;TZID=Europe/Helsinki:20240817T140000
DTEND;TZID=Europe/Helsinki:20240817T170000
DTSTAMP:20240805T121524Z
URL:https://www.pokokorpilahti.fi/events/laukkalan-residenssitaitelijat-es
 ittaytyvat-la-17-8-klo-14-17/
SUMMARY:Laukkalan residenssitaitelijat esittäytyvät la 17.8 klo 14-17
DESCRIPTION:
ATTACH;FMTTYPE=image/jpeg:https://www.pokokorpilahti.fi/wp-content/uploads
 /2024/08/Kristiina-naamakuva-kesa-2.jpg
CATEGORIES:kylät,maaseutu,näyttely,vapaa-aika
END:VEVENT
BEGIN:VTIMEZONE
TZID:Europe/Helsinki
X-LIC-LOCATION:Europe/Helsinki
BEGIN:DAYLIGHT
DTSTART:20240331T040000
TZOFFSETFROM:+0200
TZOFFSETTO:+0300
TZNAME:EEST
END:DAYLIGHT
END:VTIMEZONE
END:VCALENDAR