BEGIN:VCALENDAR
VERSION:2.0
PRODID:-//wp-events-plugin.com//6.6.3//EN
TZID:Europe/Helsinki
X-WR-TIMEZONE:Europe/Helsinki
BEGIN:VEVENT
UID:134@pokokorpilahti.fi
DTSTART;TZID=Europe/Helsinki:20230819T130000
DTEND;TZID=Europe/Helsinki:20230819T160000
DTSTAMP:20230811T074946Z
URL:https://www.pokokorpilahti.fi/events/laavulta-laavulle-kierros-la-19-8
 -2023-klo-13-16/
SUMMARY:Laavulta laavulle -kierros la 19.8.2023 klo 13-16
DESCRIPTION:Laavulta laavulle -kierros lauantaina 19.8.23 klo 13-16:\nMukan
 a mm upouusi Kirppuvuoren laavu!\n\n 	Kirppuvuoren laavu\, Tikkala (käynt
 i parkkipaikalle ja polulle n. Petäjävedentie 1261 kohdalta)\n 	Myllyjoe
 n laavu\, Saukkola (käynti polulle noin Kuusimäentie 4 kohdalta\, parkki
 paikkaa ei ole)\n 	Särkijärven laavu\, Ylä-Muuratjärvi (Särkijärvent
 ie 64)\n\nLaavuilla ostettavissa pientä purtavaa\, Kirppuvuorella Ohelana
 ukeen omaa makkaraa\, nokipannukahvia &amp\; marjapiirakkaa.\nVieraile yhd
 ellä - patikoiden\, pyöräillen tai autoillen - tai kierrä kaikki! Koko
 naismatka noin 26 km.\nJärjestänä Pohjoisen Korpilahden yhteistyöyhdis
 tys ry ja sen hallinnoimi Virtaa Teema-hankkeen Laavulta laavulle -osahank
 e\, jonka on rahoittanut Leader-ryhmä Jyväsriihi ry.\n
ATTACH;FMTTYPE=image/jpeg:https://www.pokokorpilahti.fi/wp-content/uploads
 /2023/08/laavulta-laavulle-kierros-23.png
CATEGORIES:kylät,maaseutu,patikointi,vapaa-aika
END:VEVENT
BEGIN:VTIMEZONE
TZID:Europe/Helsinki
X-LIC-LOCATION:Europe/Helsinki
BEGIN:DAYLIGHT
DTSTART:20230326T040000
TZOFFSETFROM:+0200
TZOFFSETTO:+0300
TZNAME:EEST
END:DAYLIGHT
END:VTIMEZONE
END:VCALENDAR