BEGIN:VCALENDAR
VERSION:2.0
PRODID:-//wp-events-plugin.com//6.6.3//EN
TZID:Europe/Helsinki
X-WR-TIMEZONE:Europe/Helsinki
BEGIN:VEVENT
UID:143@pokokorpilahti.fi
DTSTART;TZID=Europe/Helsinki:20240922T130000
DTEND;TZID=Europe/Helsinki:20240922T180000
DTSTAMP:20240906T061559Z
URL:https://www.pokokorpilahti.fi/events/korpijotos-su-22-9-klo-13/
SUMMARY:Korpijotos su 22.9 klo 13
DESCRIPTION:Korpijotos sunnuntaina 22.9.24 klo 13\n\n\n 	koko reitti 11\,5 
 km\n 	Lähtö Ylä-Muuratjärven kylätalo - Kuuselan laavu-YMJ kylllis\n 
 	Hangasjärven uikkarisauna lämpiää klo 15 - 18\n 	Reitti helppo\, kulk
 ee metsäautoteillä ja poluilla. Reitin voi juosta\, kävellä tai pyör
 äillä. Voi kulkea myös sen matkan\, minkä itse haluaa\, ja palata taka
 isin.\n\nTapahtuma on maksuton\, Hangasjärvellä myytävänä pientä pur
 tavaa. Auton voi jättää YMJ kylätalon pihaan tai tien varteen.\nReitin
  ohjaa Pekka Könkkölä\, lisätietoja Reena 0400-738205
ATTACH;FMTTYPE=image/jpeg:https://www.pokokorpilahti.fi/wp-content/uploads
 /2024/09/korpijotos24.png
CATEGORIES:kylät,maaseutu,patikointi,sauna,vapaa-aika
END:VEVENT
BEGIN:VTIMEZONE
TZID:Europe/Helsinki
X-LIC-LOCATION:Europe/Helsinki
BEGIN:DAYLIGHT
DTSTART:20240331T040000
TZOFFSETFROM:+0200
TZOFFSETTO:+0300
TZNAME:EEST
END:DAYLIGHT
END:VTIMEZONE
END:VCALENDAR