BEGIN:VCALENDAR
VERSION:2.0
PRODID:-//wp-events-plugin.com//6.6.3//EN
TZID:Europe/Helsinki
X-WR-TIMEZONE:Europe/Helsinki
BEGIN:VEVENT
UID:116@pokokorpilahti.fi
DTSTART;TZID=Europe/Helsinki;VALUE=DATE:20230314
DTEND;TZID=Europe/Helsinki;VALUE=DATE:20230315
DTSTAMP:20230314T121040Z
URL:https://www.pokokorpilahti.fi/events/kesatyota-tarjolla-15-17-vuotiaal
 le/
SUMMARY:Kesätyöta tarjolla 15-17 vuotiaalle!
DESCRIPTION:KESÄDUUNI OP:N PIIKKIIN YHDELLE 15–17-VUOTIAALLE \n\nOsuuspa
 nkin Kesäduuni OP:n piikkiin -kampanjan avustuksella toteutettavat kesät
 yöt voivat sisältää muun muassa Hangasjärven saunan lämmitystä ja p
 uuhuoltoa\, kylien yhteisten liikuntapaikkojen ja laavujen huoltoa\, kylie
 n kesätapahtumien järjestelyä\, kesäkahviloiden pitoa ja leipomista. M
 yös työntekijän toiveet tehtävän sisällöistä huomioidaan. Töitä 
 voi olla myös iltaisin tai viikonloppuisin etukäteen sovittuna. Kokonais
 työmäärä kesän aikana on 60 tuntia ja palkka on 400 euroa. Palkka mak
 setaan toteutuneiden työtuntien mukaan kerran kuukaudessa.\n\nTehtävää
 n etsitään omatoimista ja luotettavaa nuorta. Hygieniapassi on eduksi te
 htävän hoidossa. Jos haluat työskennellä monipuolisesti\, oppia uutta 
 ja sinulla on kulkuvälineenä vähintään polkupyörä\, lähetä vapaam
 uotoinen hakemus 14.4. mennessä osoitteeseen kuusianne@gmail.com. Lisäti
 etoja työtehtävistä voit kysyä Pokon puheenjohtaja Anneli Kuusinen-Lau
 kkalalta: kuusianne@gmail.com / 050 339 9898 (iltaisin).\n\n 	Jos sinulla 
 on kiinnostusta tehdä myös muuta työtä kesän aikana yksityishenkilöi
 lle\, neuvomme palkkausasioissa tekemään työ esimerkiksi osuuskunnan ka
 utta. Ota yhteyttä yllä olevaan osoitteeseen!\n\nLisätietoa OPn kesädu
 unikampanjasta: op.fi/keski-suomi/kesaduuni
ATTACH;FMTTYPE=image/jpeg:https://www.pokokorpilahti.fi/wp-content/uploads
 /2023/03/op.jpg
CATEGORIES:maaseutu
END:VEVENT
BEGIN:VTIMEZONE
TZID:Europe/Helsinki
X-LIC-LOCATION:Europe/Helsinki
BEGIN:STANDARD
DTSTART:20221030T030000
TZOFFSETFROM:+0300
TZOFFSETTO:+0200
TZNAME:EET
END:STANDARD
END:VTIMEZONE
END:VCALENDAR