BEGIN:VCALENDAR
VERSION:2.0
PRODID:-//wp-events-plugin.com//6.6.3//EN
TZID:Europe/Helsinki
X-WR-TIMEZONE:Europe/Helsinki
BEGIN:VEVENT
UID:142@pokokorpilahti.fi
DTSTART;TZID=Europe/Helsinki:20240904T180000
DTEND;TZID=Europe/Helsinki:20240904T214500
DTSTAMP:20240821T113910Z
URL:https://www.pokokorpilahti.fi/events/kesan-viimeinen-rantasaunailta-4-
 9-2024/
SUMMARY:Kesän viimeinen rantasaunailta 4.9.2024!
DESCRIPTION:Tervetuloa vielä kerran saunomaan Hangasjärven rantasaunalle.
 \n\nNaisten vuoro klo 18 -19.45 ja miesten 20 -21.45.\n\nEräkämpällä p
 ientä purtavaa.
ATTACH;FMTTYPE=image/jpeg:https://www.pokokorpilahti.fi/wp-content/uploads
 /2021/08/DSC_0601-1-scaled.jpg
CATEGORIES:kylät,maaseutu,sauna,vapaa-aika
END:VEVENT
BEGIN:VTIMEZONE
TZID:Europe/Helsinki
X-LIC-LOCATION:Europe/Helsinki
BEGIN:DAYLIGHT
DTSTART:20240331T040000
TZOFFSETFROM:+0200
TZOFFSETTO:+0300
TZNAME:EEST
END:DAYLIGHT
END:VTIMEZONE
END:VCALENDAR