BEGIN:VCALENDAR
VERSION:2.0
PRODID:-//wp-events-plugin.com//6.6.3//EN
TZID:Europe/Helsinki
X-WR-TIMEZONE:Europe/Helsinki
BEGIN:VEVENT
UID:123@pokokorpilahti.fi
DTSTART;TZID=Europe/Helsinki:20230705T053000
DTEND;TZID=Europe/Helsinki:20230705T220000
DTSTAMP:20230524T072452Z
URL:https://www.pokokorpilahti.fi/events/kesan-rantasaunavuorot-alkavat-ke
 -7-6-2023-2023-07-05/
SUMMARY:Kesän rantasaunavuorot alkavat ke 7.6.2023
DESCRIPTION:&nbsp\;\n\nHangasjärven maksuttomat rantasaunavuorot pidetää
 n kesäkuun alusta elokuun loppuun joka keskiviikko.\n\nMiehet klo 17.30-1
 9.30\n\nNaiset 19.30-21.30.\n\nPoikkeuksena on saunaviikon 5.7.\, jolloin 
 sauna on sekasaunana klo 15-22
ATTACH;FMTTYPE=image/jpeg:https://www.pokokorpilahti.fi/wp-content/uploads
 /2020/09/DSC_0778-2-scaled.jpg
CATEGORIES:maaseutu,sauna,vapaa-aika
LOCATION:Hangasjärven eräkämppä\, Hangasjärventie 106\, TIKKALA\, 4186
 0\, Suomi
GEO:62.176236;25.430435
X-APPLE-STRUCTURED-LOCATION;VALUE=URI;X-ADDRESS=Hangasjärventie 106\, TIKK
 ALA\, 41860\, Suomi;X-APPLE-RADIUS=100;X-TITLE=Hangasjärven eräkämppä:
 geo:62.176236,25.430435
END:VEVENT
BEGIN:VTIMEZONE
TZID:Europe/Helsinki
X-LIC-LOCATION:Europe/Helsinki
BEGIN:DAYLIGHT
DTSTART:20230326T040000
TZOFFSETFROM:+0200
TZOFFSETTO:+0300
TZNAME:EEST
END:DAYLIGHT
END:VTIMEZONE
END:VCALENDAR