BEGIN:VCALENDAR
VERSION:2.0
PRODID:-//wp-events-plugin.com//6.6.3//EN
TZID:Europe/Helsinki
X-WR-TIMEZONE:Europe/Helsinki
BEGIN:VEVENT
UID:174@pokokorpilahti.fi
DTSTART;TZID=Europe/Helsinki:20250827T180000
DTEND;TZID=Europe/Helsinki:20250827T220000
DTSTAMP:20250718T073530Z
URL:https://www.pokokorpilahti.fi/events/kesan-rantasaunat-hangasjarvella-
 2025-08-27/
SUMMARY:Kesän rantasaunat Hangasjärvellä
DESCRIPTION:Tervetuloa saunomaan maksuttomasti Hangasjärven rantasaunaan k
 eskiviikkoisin.\n\nMiesten vuoro klo 18 - 19.45\n\nNaisten vuoro klo 20 - 
 21.45\n\n
ATTACH;FMTTYPE=image/jpeg:https://www.pokokorpilahti.fi/wp-content/uploads
 /2021/08/DSC_0601-1-scaled.jpg
CATEGORIES:kylät,maaseutu,sauna,vapaa-aika
LOCATION:Hangasjärven eräkämppä\, Hangasjärventie 106\, TIKKALA\, 4186
 0\, Suomi
GEO:62.176236;25.430435
X-APPLE-STRUCTURED-LOCATION;VALUE=URI;X-ADDRESS=Hangasjärventie 106\, TIKK
 ALA\, 41860\, Suomi;X-APPLE-RADIUS=100;X-TITLE=Hangasjärven eräkämppä:
 geo:62.176236,25.430435
END:VEVENT
BEGIN:VTIMEZONE
TZID:Europe/Helsinki
X-LIC-LOCATION:Europe/Helsinki
BEGIN:DAYLIGHT
DTSTART:20250330T040000
TZOFFSETFROM:+0200
TZOFFSETTO:+0300
TZNAME:EEST
END:DAYLIGHT
END:VTIMEZONE
END:VCALENDAR