BEGIN:VCALENDAR
VERSION:2.0
PRODID:-//wp-events-plugin.com//6.6.3//EN
TZID:Europe/Helsinki
X-WR-TIMEZONE:Europe/Helsinki
BEGIN:VEVENT
UID:136@pokokorpilahti.fi
DTSTART;TZID=Europe/Helsinki:20231209T100000
DTEND;TZID=Europe/Helsinki:20231209T140000
DTSTAMP:20231107T101932Z
URL:https://www.pokokorpilahti.fi/events/joulumarkkinat-harjulassa-9-12-23
 -klo-10-15/
SUMMARY:Jouluhuminaa Tikkalassa 9.12.23 klo 10-15
DESCRIPTION:Tikkalassa järjestetään 3 samanaikaista\, mutta erilaista ti
 laisuutta osana Avoimet Joulukylät -tapahtumaa.\n\nEnsimmäinen on Harjul
 an joulumarkkinat.  Tarjolla vaikka mitä herkkua\, käsitöitä\, jouluk
 uusia...kahviossa voi nauttia glögiä ja torttuja yms. Luvassa myös ohje
 lmaa ja joulupukin vierailu.\n\nToinen on Puuroa ja jouluntunnelmaa Ohelan
 aukeen lämpöisessä tuvassa. Nauti joulupuuroa keittolounasta tai muita 
 jouluisia kahvioherkkuja.  Farmiputiikki on auki ja saatavilla myös Ymis
 -panimon tuotteita. Pihatuvassa kukkapuoti ja kranssipaja. Hinta 35 €. I
 lmoittautumiset Sandra\, 044-9766428.\nOsoite: Petäjävedentie 1348.\n\nK
 olmas on hiljentymispaikka jouluun Laukkalan tuvan takkatulen loimussa. Vi
 etä kiireetön hetki ja sukella vanhan ajan tunnelmaan. Tarjolla joulukor
 tteja ja joulukuusia.\nOsoite: Petäjävedentie 1798.\n\nValitse mieluisin
 \, tai kierrä kaikki kolme!\n\nTervetuloa!
ATTACH;FMTTYPE=image/jpeg:https://www.pokokorpilahti.fi/wp-content/uploads
 /2023/10/avoimetjoulukylat-500x500-1.png
CATEGORIES:kylät,maaseutu,myyjäiset,vapaa-aika
LOCATION:Harjulan seurantalo\, Petäjävedentie 1641\, Jyväskylä\, Keski-
 Suomi\, 41860\, Korpilahden pohjoiset kylät\, Suomi
GEO:62.144674;25.467663
X-APPLE-STRUCTURED-LOCATION;VALUE=URI;X-ADDRESS=Petäjävedentie 1641\, Jyv
 äskylä\, Keski-Suomi\, 41860\, Korpilahden pohjoiset kylät\, Suomi;X-AP
 PLE-RADIUS=100;X-TITLE=Harjulan seurantalo:geo:62.144674,25.467663
END:VEVENT
BEGIN:VTIMEZONE
TZID:Europe/Helsinki
X-LIC-LOCATION:Europe/Helsinki
BEGIN:STANDARD
DTSTART:20231029T030000
TZOFFSETFROM:+0300
TZOFFSETTO:+0200
TZNAME:EET
END:STANDARD
END:VTIMEZONE
END:VCALENDAR