BEGIN:VCALENDAR
VERSION:2.0
PRODID:-//wp-events-plugin.com//6.6.3//EN
TZID:Europe/Helsinki
X-WR-TIMEZONE:Europe/Helsinki
BEGIN:VEVENT
UID:175@pokokorpilahti.fi
DTSTART;TZID=Europe/Helsinki:20250818T120000
DTEND;TZID=Europe/Helsinki:20250818T180000
DTSTAMP:20250813T070045Z
URL:https://www.pokokorpilahti.fi/events/hemmottelu-ja-hoitopaiva-harjulas
 sa-ma-18-8/
SUMMARY:Hemmottelu ja hoitopäivä Harjulassa ma 18.8.
DESCRIPTION:\n\nTervetuloa Harjulaan! Huomaa edullinen pakettitarjouksemme
 😍\, tai tule vaikka kahville ja juttelemaan mukavia☕️. Ajanvaraukse
 t klo 12 alkaen ja paikalla ollaan niin kauan kuin varauksia on\, noin klo
  18 saakka. \n\nAjanvaraus: Piia (jalkahoitaja) 040 6317170 ja Heli (partu
 rikampaaja) 040 7253257.\n
ATTACH;FMTTYPE=image/jpeg:https://www.pokokorpilahti.fi/wp-content/uploads
 /2025/08/hemmottelupaiva-25.jpg
CATEGORIES:kylät,lapset,vapaa-aika
LOCATION:Seurantalo Harjula\, Petäjävedentie 1641\,\, Tikkala\, 41860\, S
 uomi
X-APPLE-STRUCTURED-LOCATION;VALUE=URI;X-ADDRESS=Petäjävedentie 1641\,\, T
 ikkala\, 41860\, Suomi;X-APPLE-RADIUS=100;X-TITLE=Seurantalo Harjula:geo:0
 ,0
END:VEVENT
BEGIN:VTIMEZONE
TZID:Europe/Helsinki
X-LIC-LOCATION:Europe/Helsinki
BEGIN:DAYLIGHT
DTSTART:20250330T040000
TZOFFSETFROM:+0200
TZOFFSETTO:+0300
TZNAME:EEST
END:DAYLIGHT
END:VTIMEZONE
END:VCALENDAR