BEGIN:VCALENDAR
VERSION:2.0
PRODID:-//wp-events-plugin.com//6.6.3//EN
TZID:Europe/Helsinki
X-WR-TIMEZONE:Europe/Helsinki
BEGIN:VEVENT
UID:149@pokokorpilahti.fi
DTSTART;TZID=Europe/Helsinki:20250209T180000
DTEND;TZID=Europe/Helsinki:20250209T210000
DTSTAMP:20250203T085252Z
URL:https://www.pokokorpilahti.fi/events/hangasjarven-avantosauna-su-9-2-2
 5-klo-18-21/
SUMMARY:Hangasjärven Avantosauna su 9.2.25 klo 18-21
DESCRIPTION:Pohjoisten kylien palju- ja avantosauna  su 9.2. klo 18-21 Hang
 asjärvellä os. Hangasjärventie 106\, Tikkala\, ajo Patajärventien kaut
 ta. \nTule taittamaan talven selkää ja jutustelemaan saunan lauteille\, 
 avantoon tai paljuilemaan raikkaassa talvisäässä. Kyseessä uikkarisaun
 a\, pukutilat kämpällä. Hinta aikuisilta 5 euroa\, lapsilta alle 12 v 2
 \,5 euroa. Kämpällä kahvio\, jossa myynnissä suolaista ja makeaa iltap
 alaa. \nTervetuloa!\nTiedustelut  Annelilta p.0503399898\nJärjestää Poh
 joisen Korpilahden yhteistyöyhdistys ry\n
ATTACH;FMTTYPE=image/jpeg:https://www.pokokorpilahti.fi/wp-content/uploads
 /2023/01/saunamokki-scaled.jpg
CATEGORIES:kylät,lapset,maaseutu,sauna
LOCATION:Hangasjärven eräkämppä\, Hangasjärventie 106\, TIKKALA\, 4186
 0\, Suomi
GEO:62.176236;25.430435
X-APPLE-STRUCTURED-LOCATION;VALUE=URI;X-ADDRESS=Hangasjärventie 106\, TIKK
 ALA\, 41860\, Suomi;X-APPLE-RADIUS=100;X-TITLE=Hangasjärven eräkämppä:
 geo:62.176236,25.430435
END:VEVENT
BEGIN:VTIMEZONE
TZID:Europe/Helsinki
X-LIC-LOCATION:Europe/Helsinki
BEGIN:STANDARD
DTSTART:20241027T030000
TZOFFSETFROM:+0300
TZOFFSETTO:+0200
TZNAME:EET
END:STANDARD
END:VTIMEZONE
END:VCALENDAR