BEGIN:VCALENDAR
VERSION:2.0
PRODID:-//wp-events-plugin.com//6.6.3//EN
TZID:Europe/Helsinki
X-WR-TIMEZONE:Europe/Helsinki
BEGIN:VEVENT
UID:146@pokokorpilahti.fi
DTSTART;TZID=Europe/Helsinki:20241124T160000
DTEND;TZID=Europe/Helsinki:20241124T173000
DTSTAMP:20241119T124230Z
URL:https://www.pokokorpilahti.fi/events/cantinuovom-konsertti/
SUMMARY:Cantinuovom konsertti
DESCRIPTION:Cantinuovom kuoro esittää Saunavihta konsertin Tikkalan koulu
 lla. Vapaa pääsy!
ATTACH;FMTTYPE=image/jpeg:https://www.pokokorpilahti.fi/wp-content/uploads
 /2024/11/Cantinuovom-konsertti-24-1.png
CATEGORIES:kylät,maaseutu,musiikki,sauna
LOCATION:Tikkalan päiväkotikoulu\, Saukkolahdentie 16\, Jyväskylä\, Kes
 ki-Suomi\, 41860\, Tikkala\, Suomi
X-APPLE-STRUCTURED-LOCATION;VALUE=URI;X-ADDRESS=Saukkolahdentie 16\, Jyväs
 kylä\, Keski-Suomi\, 41860\, Tikkala\, Suomi;X-APPLE-RADIUS=100;X-TITLE=T
 ikkalan päiväkotikoulu:geo:0,0
END:VEVENT
BEGIN:VTIMEZONE
TZID:Europe/Helsinki
X-LIC-LOCATION:Europe/Helsinki
BEGIN:STANDARD
DTSTART:20241027T030000
TZOFFSETFROM:+0300
TZOFFSETTO:+0200
TZNAME:EET
END:STANDARD
END:VTIMEZONE
END:VCALENDAR