BEGIN:VCALENDAR
VERSION:2.0
PRODID:-//wp-events-plugin.com//6.6.3//EN
TZID:Europe/Helsinki
X-WR-TIMEZONE:Europe/Helsinki
BEGIN:VEVENT
UID:139@pokokorpilahti.fi
DTSTART;TZID=Europe/Helsinki:20240608T100000
DTEND;TZID=Europe/Helsinki:20240608T235900
DTSTAMP:20240603T100322Z
URL:https://www.pokokorpilahti.fi/events/avoimet-kylat-paiva-lauantaina-8-
 6-pohjoisilla-kylilla/
SUMMARY:Avoimet Kylät päivä lauantaina 8.6 pohjoisilla kylillä
DESCRIPTION:Pohjoisten kylien avoimet kylät päivä lauantaina 8.6.2024\nY
 lä-Muuratjärvi: kirppis\, pizzaa klo 10-16\nTikkala/ Laukkala: Leivän t
 arina - &amp\; postikorttinäyttely klo 12-15\nTikkala/Mehtonen: Tikkalan 
 turinat klo 11-13\nSarvenperä: Säntäys-polkujuoksutapahtuma  klo 12-15
 \nJa illalla vielä Ohelanaukeella Tommi Läntinen! portit aukeavat klo 18
  ja valomerkki klo 01.00
ATTACH;FMTTYPE=image/jpeg:https://www.pokokorpilahti.fi/wp-content/uploads
 /2024/06/avoimet_kylat_2024.jpg
CATEGORIES:kylät,maaseutu,musiikki,myyjäiset,näyttely,vapaa-aika
END:VEVENT
BEGIN:VTIMEZONE
TZID:Europe/Helsinki
X-LIC-LOCATION:Europe/Helsinki
BEGIN:DAYLIGHT
DTSTART:20240331T040000
TZOFFSETFROM:+0200
TZOFFSETTO:+0300
TZNAME:EEST
END:DAYLIGHT
END:VTIMEZONE
END:VCALENDAR